BEGIN:VCALENDAR
VERSION:2.0
PRODID:-//ChamberMaster//Event Calendar 2.0//EN
METHOD:PUBLISH
X-PUBLISHED-TTL:P3D
REFRESH-INTERVAL:P3D
CALSCALE:GREGORIAN
BEGIN:VEVENT
DTSTART:20220624T231500Z
DTEND:20220625T014500Z
X-MICROSOFT-CDO-ALLDAYEVENT:FALSE
SUMMARY:Couples Trivia Night
DESCRIPTION:Join us at Clint Smith Graphics at 3210 Antelope Ave. Suite E from 6:15pm to 8:45pm. Trivia topic will be general. \n\n \n\nCost of event: \n\n$40/couple includes food & trivia (BYOB)\n\n \n\nPackage Deal: MUST purchase at least 2 children admissions to use Package Deal\n\n$60/couple also includes 2 child admission to Kids Night Out at the Museum\n\n--After you put the $40 Trivia package in your shopping cart\, head to the Camps & Classes page and sign up your kiddos. In your final check-out purchase\, use the codes:\n\n-If you're a member\, use the code MEM. \n\n-If you are a nonmember\, use the code NONM.\n\nThe total should be $60 (if you purchase the 2 kids in KNO)!\n\n \n\n\nA special thanks to our awesome supporters of this event:\n\nEdward Jones\n\nAnderson Klein Brewster & Brandt Lawyers
X-ALT-DESC;FMTTYPE=text/html:<div>Join us at Clint Smith Graphics at&nbsp\;<a href="https://www.google.com/maps/place/3210+Antelope+Ave+Suite+E\,+Kearney\,+NE+68847/@40.707131\,-99.0485003\,17z/data=!3m1!4b1!4m5!3m4!1s0x87994f182b9f81eb:0xb2f2ef154e38cff6!8m2!3d40.707131!4d-99.0463116" style="margin: 0px\; border: 0px\; font-size: 13.3333px\; font-family: futura-pt\; vertical-align: baseline\; text-decoration-line: none\; transform: translateZ(0px)\; outline: 0px\; color: rgb(0\, 0\, 0)\;">3210 Antelope Ave. Suite E</a>&nbsp\;from&nbsp\;6:15pm to 8:45pm. Trivia topic will be general.&nbsp\;</div>\n\n<div>&nbsp\;</div>\n\n<div><u>Cost of event:</u>&nbsp\;</div>\n\n<div>$40/couple includes food &amp\; trivia&nbsp\;<em><strong>(BYOB)</strong></em></div>\n\n<div>&nbsp\;</div>\n\n<div><u>Package Deal</u>:&nbsp\;<em><strong>MUST purchase at least 2 children admissions to use Package Deal</strong></em></div>\n\n<div>$60/couple also includes 2 child admission to Kids Night Out at the Museum</div>\n\n<div><strong>--After you put the $40 Trivia package in your shopping cart\,&nbsp\;</strong><strong>head to the&nbsp\;<u><a href="https://sales.kearneychildrensmuseum.org/patroneducation.aspx?pid=33580" style="margin: 0px\; border: 0px\; font-size: 13.3333px\; vertical-align: baseline\; text-decoration-line: none\; transform: translateZ(0px)\; outline: 0px\; color: rgb(0\, 0\, 0)\;">Camps &amp\; Classes</a></u>&nbsp\;page and sign up your kiddos. In your final check-out purchase\, use the codes:</strong></div>\n\n<div><strong>-If you&#39\;re a member\, use the code MEM.&nbsp\;</strong></div>\n\n<div><strong>-If you are a nonmember\, use the code NONM.</strong></div>\n\n<div><strong>The total should be $60 (if you purchase the 2 kids in KNO)!</strong></div>\n\n<div>&nbsp\;</div>\n\n<div>\n<div><strong><u>A special thanks to our awesome supporters of this event:</u></strong></div>\n\n<div>Edward Jones</div>\n\n<div>Anderson Klein Brewster &amp\; Brandt Lawyers</div>\n</div>\n
LOCATION:
UID:e.1404.19962
SEQUENCE:3
DTSTAMP:20260423T115624Z
URL:https://chambermaster.kearneycoc.org/events/details/couples-trivia-night-06-24-2022-19962
END:VEVENT

END:VCALENDAR
