BEGIN:VCALENDAR
VERSION:2.0
PRODID:-//ChamberMaster//Event Calendar 2.0//EN
METHOD:PUBLISH
X-PUBLISHED-TTL:P3D
REFRESH-INTERVAL:P3D
CALSCALE:GREGORIAN
BEGIN:VEVENT
DTSTART:20120915T173000Z
DTEND:20120915T173000Z
X-MICROSOFT-CDO-ALLDAYEVENT:FALSE
SUMMARY:Cozad's Smithsonian Exhibit "Journey Stories"
DESCRIPTION:Rare chance to see over 40 draft horses working with century old equipment\,\n\nincluding only known horse-drawn Corn picker. Enjoy seeing the horses work\n\nright along side antique 2-cylinder tractors
X-ALT-DESC;FMTTYPE=text/html:Rare chance to see over 40 draft horses working with century old equipment\,<br />\nincluding only known horse-drawn Corn picker. Enjoy seeing the horses work<br />\nright along side antique 2-cylinder tractors
LOCATION:41841 W Railroad Cozad\, NE North from Interstate to base of overpass\, west on 2nd around corner to Railroad\, west 1 mile
UID:e.1404.2184
SEQUENCE:3
DTSTAMP:20260425T033651Z
URL:https://chambermaster.kearneycoc.org/events/details/cozad-s-smithsonian-exhibit-journey-stories-09-15-2012-2184
END:VEVENT

END:VCALENDAR
