BEGIN:VCALENDAR
VERSION:2.0
PRODID:-//ChamberMaster//Event Calendar 2.0//EN
METHOD:PUBLISH
X-PUBLISHED-TTL:P3D
REFRESH-INTERVAL:P3D
CALSCALE:GREGORIAN
BEGIN:VEVENT
DTSTART:20150620T160000Z
DTEND:20150620T190000Z
X-MICROSOFT-CDO-ALLDAYEVENT:FALSE
SUMMARY:Crane River Theater: An Afternoon with Tarzan and Friends
DESCRIPTION:Crane River Theater is thrilled to offer An Afternoon with Tarzan and Friends at Yanney Heritage Park on June 20. Following the success of An Afternoon with Shrek and Friends during summer 2014\, this year's event will be a chance for kids of all ages to spend an afternoon with Tarzan\, Jane and Tarzan?s Gorilla Family\, have lunch with them and participate in a number of outdoor activities sponsored by Cabela?s and Nebraska Game and Parks. The event will conclude with a sneak peek performance from the show\, which is set to open a few days following. An Afternoon with Tarzan and Friends will begin at 11 a.m. and conclude at 2 p.m.\, and tickets are $5. For more information\, contact Crane River Theater at (308) 627-5796 or visit www.CraneRiverTheater.org.
X-ALT-DESC;FMTTYPE=text/html:Crane River Theater is thrilled to offer An Afternoon with Tarzan and Friends&nbsp\;at Yanney Heritage Park on June 20. Following the success of An Afternoon with Shrek and Friends during summer 2014\, this year&#39\;s event will be a chance for kids of all ages to spend an afternoon with Tarzan\, Jane and Tarzan?s Gorilla Family\, have lunch with them and participate in a number of outdoor activities sponsored by Cabela?s and Nebraska Game and Parks. The event will conclude with a sneak peek performance from the show\, which is set to open a few days following. An Afternoon with Tarzan and Friends will begin at&nbsp\;11 a.m. and conclude at 2 p.m.\, and tickets are $5.&nbsp\;For more information\, contact Crane River Theater at (308) 627-5796 or visit www.CraneRiverTheater.org.
LOCATION:Yanney Heritage Park 2020 W 11th ST Kearney\, NE
UID:e.1404.6209
SEQUENCE:3
DTSTAMP:20260422T171000Z
URL:https://chambermaster.kearneycoc.org/events/details/crane-river-theater-an-afternoon-with-tarzan-and-friends-06-20-2015-6209
END:VEVENT

END:VCALENDAR
