BEGIN:VCALENDAR
VERSION:2.0
PRODID:-//ChamberMaster//Event Calendar 2.0//EN
METHOD:PUBLISH
X-PUBLISHED-TTL:P3D
REFRESH-INTERVAL:P3D
CALSCALE:GREGORIAN
BEGIN:VEVENT
DTSTART:20200912T000000Z
DTEND:20200914T000000Z
X-MICROSOFT-CDO-ALLDAYEVENT:FALSE
SUMMARY:Crane River Theater Letters from Home: Reviving Patriotism
DESCRIPTION:Audiences everywhere are falling in love with Dan Beckmann and Erinn Dearth. They will dazzle you with tap dancing\, engage you with song\, charm you with charisma\, and touch your hearts with the true meaning of patriotism. Since 2010\, Letters From Home has performed in more than 40 states\, and in 2019 performed for the 75th Anniversary of D-Day in Normandy\, France. The show brings back the style of the USO from WWII to Vietnam with incredible high-energy performances that honor veterans\, active military heroes and their families by Reviving Patriotism and Uniting The Nation through music. Together\, bombshell Erinn Dearth and self-proclaimed "tall-guy" Dan Beckmann take audiences on a trip down memory lane with 1940s-1960s music\, singing\, tap dancing\, comedy\, audience interaction and a variety of other surprises along the way.\n\n\n\nSeptember 11-13   7 pm
X-ALT-DESC;FMTTYPE=text/html:Audiences everywhere are falling in love with Dan Beckmann and Erinn Dearth. They will dazzle you with tap dancing\, engage you with song\, charm you with charisma\, and touch your hearts with the true meaning of patriotism. Since 2010\, Letters From Home has performed in more than 40 states\, and in 2019 performed for the 75th Anniversary of D-Day in Normandy\, France. The show brings back the style of the USO from WWII to Vietnam with incredible high-energy performances that honor veterans\, active military heroes and their families by Reviving Patriotism and Uniting The Nation through music. Together\, bombshell Erinn Dearth and self-proclaimed &ldquo\;tall-guy&rdquo\; Dan Beckmann take audiences on a trip down memory lane with 1940s-1960s music\, singing\, tap dancing\, comedy\, audience interaction and a variety of other surprises along the way.<br />\n<br />\nSeptember 11-13 &bull\; 7 pm<br />\n&nbsp\;
LOCATION:Yanney Park 2020 W 11th Street\, Kearney
UID:e.1404.18329
SEQUENCE:3
DTSTAMP:20260425T002607Z
URL:https://chambermaster.kearneycoc.org/events/details/crane-river-theater-letters-from-home-reviving-patriotism-18329
END:VEVENT

END:VCALENDAR
