BEGIN:VCALENDAR
VERSION:2.0
PRODID:-//ChamberMaster//Event Calendar 2.0//EN
METHOD:PUBLISH
X-PUBLISHED-TTL:P3D
REFRESH-INTERVAL:P3D
CALSCALE:GREGORIAN
BEGIN:VEVENT
DTSTART:20160430T220000Z
DTEND:20160501T020000Z
X-MICROSOFT-CDO-ALLDAYEVENT:FALSE
SUMMARY:Dancing With the Stars (Rotary)
DESCRIPTION:The Dancing with the Stars event\, hosted by Kearney Rotary Clubs\, will be held at The Younes Conference Center on Saturday April 30th\, 2016. This will be held in conjunction with the Rotary District Conference which will be held April 29th thru May 1st. There will be more details to follow so please check back!
X-ALT-DESC;FMTTYPE=text/html:<span style="font-family:times new roman\,serif\;"><span style="font-size:12.0pt\;">The</span></span><span style="font-family:times new roman\,serif\;"><span style="font-size:12.0pt\;"> Dancing with the Stars event\, hosted by Kearney Rotary Clubs\, will be held at The Younes Conference Center on Saturday April 30th\, 2016. This will be held in conjunction with the Rotary District Conference which will be held April 29th thru May 1st. There will be more details to follow so please check back!</span></span>
LOCATION:Younes Conference Center
UID:e.1404.6234
SEQUENCE:3
DTSTAMP:20260422T012143Z
URL:https://chambermaster.kearneycoc.org/events/details/dancing-with-the-stars-rotary-04-30-2016-6234
END:VEVENT

END:VCALENDAR
