BEGIN:VCALENDAR
VERSION:2.0
PRODID:-//ChamberMaster//Event Calendar 2.0//EN
METHOD:PUBLISH
X-PUBLISHED-TTL:P3D
REFRESH-INTERVAL:P3D
CALSCALE:GREGORIAN
BEGIN:VEVENT
DTSTART:20151015T140000Z
DTEND:20151015T210000Z
X-MICROSOFT-CDO-ALLDAYEVENT:FALSE
SUMMARY:Defining a Culture of Health in Nebraska
DESCRIPTION:The Nebraska Action Coalition\, in collaboration with leading nursing organizations statewide\, is hosting a session in October meant to mobilize leadership in our state for creating a Culture of Health. Learn more at http://neactioncoalition.org/\n\nThis work\, to be successful and measurably improve the health and life course outcomes for Nebraskans\, must involve thought leaders\, business visionaries\, citizens\, and professionals with expertise from many sectors. An example or preliminary framework for measuring action toward a culture of health is available from the Robert Wood Johnson Foundation. http://www.rwif.org/en/email/from-vision-to-vision-to-action--measures-to-mobilize-a-culture-of-health0.html\n\n\n\nSpeakers: State Senator Sue Crawford and DHHS CEO Courtney Phillips
X-ALT-DESC;FMTTYPE=text/html:The Nebraska Action Coalition\, in collaboration with leading nursing organizations statewide\, is hosting a session in October meant to mobilize leadership in our state for creating a Culture of Health. Learn more at <u>http://neactioncoalition.org/</u><br />\nThis work\, to be successful and measurably improve the health and life course outcomes for Nebraskans\, must involve thought leaders\, business visionaries\, citizens\, and professionals with expertise from many sectors. An example or preliminary framework for measuring action toward a culture of health is available from the Robert Wood Johnson Foundation. <u>http://www.rwif.org/en/email/from-vision-to-vision-to-action--measures-to-mobilize-a-culture-of-health0.html</u><br />\n<br />\nSpeakers: State Senator Sue Crawford and DHHS CEO Courtney Phillips
LOCATION:Kearney UNMC College of Nursing 1917 W 24th St
UID:e.1404.6692
SEQUENCE:3
DTSTAMP:20260422T102045Z
URL:https://chambermaster.kearneycoc.org/events/details/defining-a-culture-of-health-in-nebraska-10-15-2015-6692
END:VEVENT

END:VCALENDAR
