BEGIN:VCALENDAR
VERSION:2.0
PRODID:-//ChamberMaster//Event Calendar 2.0//EN
METHOD:PUBLISH
X-PUBLISHED-TTL:P3D
REFRESH-INTERVAL:P3D
CALSCALE:GREGORIAN
BEGIN:VEVENT
DTSTART:20151204T220000Z
DTEND:20151205T020000Z
X-MICROSOFT-CDO-ALLDAYEVENT:FALSE
SUMMARY:Dejavu Fashion Open House/Huge Holiday Sale
DESCRIPTION:We would love to have you as a guest in our open house\, Dec.4\, 2015 where you will be able to enjoy exclusive extravaganza sales\, and drawing for Gift certificates and Free merchandise. We will be serving Free food and drinks.We are honored to be your choice this Holiday season for the most Trendy & Stylish Clothing\, Boots & Accessories in the market.
X-ALT-DESC;FMTTYPE=text/html:We would love to have you as a guest in our open house\, Dec.4\, 2015 where you will be able to enjoy exclusive extravaganza sales\, and drawing for Gift certificates and Free merchandise. We will be serving Free food and drinks.We are honored to be your choice this Holiday season for the most Trendy &amp\; Stylish Clothing\, Boots &amp\; Accessories in the market.
LOCATION:5110 2nd Ave Suite C Kearney\, NE 68845 South of Hy-Vee
UID:e.1404.7077
SEQUENCE:3
DTSTAMP:20260422T071037Z
URL:https://chambermaster.kearneycoc.org/events/details/dejavu-fashion-open-house-huge-holiday-sale-12-04-2015-7077
END:VEVENT

END:VCALENDAR
