BEGIN:VCALENDAR
VERSION:2.0
PRODID:-//ChamberMaster//Event Calendar 2.0//EN
METHOD:PUBLISH
X-PUBLISHED-TTL:P3D
REFRESH-INTERVAL:P3D
CALSCALE:GREGORIAN
BEGIN:VEVENT
DTSTART:20160826T003000Z
DTEND:20160826T030000Z
X-MICROSOFT-CDO-ALLDAYEVENT:FALSE
SUMMARY:Destination Downtown
DESCRIPTION:Destination Downtown converges thousands of students and community members to the Downtown area\, as part of the UNK "Blue and Gold Welcome" first year student orientation activities. This year\, again we envision students and community members having an unforgettable experience by listening to great music\, connecting with local merchants\, and discovering what the Downtown Kearney businesses have to offer.
X-ALT-DESC;FMTTYPE=text/html:Destination Downtown converges thousands of students and community members to the Downtown area\, as part of the UNK &ldquo\;Blue and Gold Welcome&rdquo\; first year student orientation activities. This year\, again we envision students and community members having an unforgettable experience by listening to great music\, connecting with local merchants\, and discovering what the Downtown Kearney businesses have to offer.
LOCATION:Downtown on the Bricks
UID:e.1404.8799
SEQUENCE:3
DTSTAMP:20260421T170142Z
URL:https://chambermaster.kearneycoc.org/events/details/destination-downtown-08-25-2016-8799
END:VEVENT

END:VCALENDAR
