BEGIN:VCALENDAR
VERSION:2.0
PRODID:-//ChamberMaster//Event Calendar 2.0//EN
METHOD:PUBLISH
X-PUBLISHED-TTL:P3D
REFRESH-INTERVAL:P3D
CALSCALE:GREGORIAN
BEGIN:VEVENT
DTSTART:20161103T150000Z
DTEND:20161103T190000Z
X-MICROSOFT-CDO-ALLDAYEVENT:FALSE
SUMMARY:Diabetes Information and Referral Fair
DESCRIPTION:Meet with a physician who can answer any questions you may have about prediabetes and diabetes! There will also be Diabetes Educators\, Dieticians\, Pharmacists\, Community Health Workers\, and more available to answer questions!  Free Screenings A1c\, Blood Glucose\, Comprehensive foot exam\, depression\, BMI\, Waist Circumference\, Blood Pressure\, Creatinine\, GFR\, Shoe Exam\, Dental check\, Personal trainer assessments\, and more!  Chef Dana Herbert\, winner of TLC's TV show Cake Boss\, will be demonstrating diabetes-friendly recipes!  Over 30 exhibitors attended last year and more anticipated this year! Exhibitors range from: HelpCare Clinic\, Living Well Chronic Disease Self-Management Program\, McMeen Physical Therapy\, HyVee\, AND MORE!! They will be available to provide helpful\, educational information on living with prediabetes and diabetes.
X-ALT-DESC;FMTTYPE=text/html:&mdash\;Meet with a physician who can answer any questions you may have about prediabetes and diabetes! There will also be Diabetes Educators\, Dieticians\, Pharmacists\, Community Health Workers\, and more available to answer questions! &mdash\;Free Screenings&mdash\;A1c\, Blood Glucose\, Comprehensive foot exam\, depression\, BMI\, Waist Circumference\, Blood Pressure\, Creatinine\, GFR\, Shoe Exam\, Dental check\, Personal trainer assessments\, and more! &mdash\;Chef Dana Herbert\, winner of TLC&#39\;s TV show Cake Boss\, will be demonstrating diabetes-friendly recipes! &mdash\;Over 30 exhibitors attended last year and more anticipated this year! Exhibitors range from: HelpCare Clinic\, Living Well Chronic Disease Self-Management Program\, McMeen Physical Therapy\, HyVee\, AND MORE!! They will be available to provide helpful\, educational information on living with prediabetes and diabetes.
LOCATION:Kearney Family YMCA 4500 6th Ave\, Kearney\, Nebraska 68845
UID:e.1404.9050
SEQUENCE:3
DTSTAMP:20260421T115953Z
URL:https://chambermaster.kearneycoc.org/events/details/diabetes-information-and-referral-fair-9050
END:VEVENT

END:VCALENDAR
