BEGIN:VCALENDAR
VERSION:2.0
PRODID:-//ChamberMaster//Event Calendar 2.0//EN
METHOD:PUBLISH
X-PUBLISHED-TTL:P3D
REFRESH-INTERVAL:P3D
CALSCALE:GREGORIAN
BEGIN:VEVENT
DTSTART:20140403T133000Z
DTEND:20140403T143000Z
X-MICROSOFT-CDO-ALLDAYEVENT:FALSE
SUMMARY:Digital Declutter
DESCRIPTION:Take control of your digital life! Would you like to get a handle on your files\, email\, passwords\, social networks\, contacts\, calendar\, bookmarks\, notes\, books\, photos\, media\, blogs\, not to mention all your extra cables and accessories? We'll explore some tools to get you started on your journey to an organized digital life!\n\n\n\nPresented by:  Jason Everett\, ESU 10
X-ALT-DESC;FMTTYPE=text/html:<span style="font-family:arial\,sans-serif\;"><span style="font-size:9pt\;">Take control of your digital life! Would you like to get a handle on your files\, email\, passwords\, social networks\, contacts\, calendar\, bookmarks\, notes\, books\, photos\, media\, blogs\, not to mention all your extra cables and accessories? We&#39\;ll explore some tools to get you started on your journey to an organized digital life!<br />\n<br />\nPresented by: &nbsp\;Jason Everett\, ESU 10</span></span><br />\n&nbsp\;
LOCATION:Kearney Area Chamber of Commerce Board Room 1007 Second Ave.
UID:e.1404.4475
SEQUENCE:3
DTSTAMP:20260423T162500Z
URL:https://chambermaster.kearneycoc.org/events/details/digital-declutter-04-03-2014-4475
END:VEVENT

END:VCALENDAR
