BEGIN:VCALENDAR
VERSION:2.0
PRODID:-//ChamberMaster//Event Calendar 2.0//EN
METHOD:PUBLISH
X-PUBLISHED-TTL:P3D
REFRESH-INTERVAL:P3D
CALSCALE:GREGORIAN
BEGIN:VEVENT
DTSTART:20160427T210000Z
DTEND:20160428T010000Z
X-MICROSOFT-CDO-ALLDAYEVENT:FALSE
SUMMARY:Dine Out for HelpCare
DESCRIPTION:Please dine at Panera Bread on April 27th and a portion of the proceeds will go to help fund the free clinic (HelpCare Clinic) in Kearney. HelpCare serves the uninsured\, low income individuals in Buffalo and Kearney counties. Go to www.helpcareclinic.com to print out a flyer. Thank you!
X-ALT-DESC;FMTTYPE=text/html:Please dine at Panera Bread on April 27th and a portion of the proceeds will go to help fund the free clinic (HelpCare Clinic) in Kearney. HelpCare serves the uninsured\, low income individuals in Buffalo and Kearney counties. Go to www.helpcareclinic.com to print out a flyer. Thank you!
LOCATION:Panera Bread
UID:e.1404.8726
SEQUENCE:3
DTSTAMP:20260421T235417Z
URL:https://chambermaster.kearneycoc.org/events/details/dine-out-for-helpcare-04-27-2016-8726
END:VEVENT

END:VCALENDAR
