BEGIN:VCALENDAR
VERSION:2.0
PRODID:-//ChamberMaster//Event Calendar 2.0//EN
METHOD:PUBLISH
X-PUBLISHED-TTL:P3D
REFRESH-INTERVAL:P3D
CALSCALE:GREGORIAN
BEGIN:VEVENT
DTSTART:20200225T233000Z
DTEND:20200226T020000Z
X-MICROSOFT-CDO-ALLDAYEVENT:FALSE
SUMMARY:Dine Out to Help Out - Cunningham's on the Bricks
DESCRIPTION:Take the night off from cooking and join us at Cunningham's on the Bricks to give back to your community. Come eat great food and enjoy friendly service and the company of others. All tips will benefit the United Way of the Kearney Area and help us provide health\, education\, and financial stability to everyone in our communities. Come support your local United Way and keep our community strong.
X-ALT-DESC;FMTTYPE=text/html:<span style="color: rgb(29\, 33\, 41)\; font-family: Helvetica\, Arial\, sans-serif\; font-size: 14px\; white-space: pre-wrap\;">Take the night off from cooking and join us at Cunningham&#39\;s on the Bricks to give back to your community. Come eat great food and enjoy friendly service and the company of others. All tips will benefit the United Way of the Kearney Area and help us provide health\, education\, and financial stability to everyone in our communities. Come support your local United Way and keep our community strong.</span>
LOCATION:Cunningham's on the Bricks 15 W 23rd St.
UID:e.1404.18344
SEQUENCE:3
DTSTAMP:20260425T113913Z
URL:https://chambermaster.kearneycoc.org/events/details/dine-out-to-help-out-cunningham-s-on-the-bricks-18344
END:VEVENT

END:VCALENDAR
