BEGIN:VCALENDAR
VERSION:2.0
PRODID:-//ChamberMaster//Event Calendar 2.0//EN
METHOD:PUBLISH
X-PUBLISHED-TTL:P3D
REFRESH-INTERVAL:P3D
CALSCALE:GREGORIAN
BEGIN:VEVENT
DTSTART:20131015T120000Z
DTEND:20131025T220000Z
X-MICROSOFT-CDO-ALLDAYEVENT:FALSE
SUMMARY:DISABILITY AWARENESS WEEK
DESCRIPTION:We are Equal to the Task..of employment
X-ALT-DESC;FMTTYPE=text/html:We are Equal to the Task..of employment 
LOCATION:NE Vocational Rehabilitation Office
UID:e.1404.3334
SEQUENCE:3
DTSTAMP:20260424T020441Z
URL:https://chambermaster.kearneycoc.org/events/details/disability-awareness-week-10-15-2013-3334
END:VEVENT

END:VCALENDAR
