BEGIN:VCALENDAR
VERSION:2.0
PRODID:-//ChamberMaster//Event Calendar 2.0//EN
METHOD:PUBLISH
X-PUBLISHED-TTL:P3D
REFRESH-INTERVAL:P3D
CALSCALE:GREGORIAN
BEGIN:VEVENT
DTSTART:20190921T210000Z
DTEND:20190921T220000Z
X-MICROSOFT-CDO-ALLDAYEVENT:FALSE
SUMMARY:Discovery Station Ribbon Cutting Ceremony
DESCRIPTION:We hope you will join us for a ribbon cutting ceremony on Saturday\, September 21 at 4:00 p.m. Immediately following this ceremony and tour of a new Discovery Station\, we will be hosting our annual River Runs Through It benefit dinner and auction.
X-ALT-DESC;FMTTYPE=text/html:<span style="color:black\;"><span style="font-family:arial\,sans-serif\;"><span style="font-size:9.5pt\;">We hope you will join us for a ribbon cutting ceremony on Saturday\, September 21 at 4:00 p.m. Immediately following this ceremony and tour of a new Discovery Station\, we will be hosting our annual <strong><em>River Runs Through It</em></strong> benefit dinner and auction.</span></span></span>
LOCATION:Iain Nicolson Audubon Center at Rowe Sanctuary 44450 Elm Island Road\, Gibbon NE 68840
UID:e.1404.17879
SEQUENCE:3
DTSTAMP:20260425T195418Z
URL:https://chambermaster.kearneycoc.org/events/details/discovery-station-ribbon-cutting-ceremony-17879
END:VEVENT

END:VCALENDAR
