BEGIN:VCALENDAR
VERSION:2.0
PRODID:-//ChamberMaster//Event Calendar 2.0//EN
METHOD:PUBLISH
X-PUBLISHED-TTL:P3D
REFRESH-INTERVAL:P3D
CALSCALE:GREGORIAN
BEGIN:VEVENT
DTSTART:20121129T230000Z
DTEND:20121130T020000Z
X-MICROSOFT-CDO-ALLDAYEVENT:FALSE
SUMMARY:Downtown Christmas Walk
DESCRIPTION:Visit Santa at his new Cottage!\n\n	  Hayrack Rides - Kearney Hub\n\n	  See The Reindeer - KGFW\n\n	  Live Nativity - North & south ends of the Bricks\n\n	  Library Story Walk - Store windows along the Bricks\n\n	  Live Music - Throughout the Bricks\n\n	  Hot Chocolate\, Funnel Cakes & More - Along the Bricks\n\n	  Get Your Holiday Pictures Taken with Mrs. Clause - Dream Fit Boutique\n\n	  Community Tree Lighting Ceremony - MONA parking lot\n\n	6:00-6:30 - Crane River Theatre
X-ALT-DESC;FMTTYPE=text/html:<div>\n	&bull\; Visit Santa at his new Cottage!</div>\n<div>\n	&bull\; Hayrack Rides - Kearney Hub</div>\n<div>\n	&bull\; See The Reindeer - KGFW</div>\n<div>\n	&bull\; Live Nativity - North &amp\; south ends of the Bricks</div>\n<div>\n	&bull\; Library Story Walk - Store windows along the Bricks</div>\n<div>\n	&bull\; Live Music - Throughout the Bricks</div>\n<div>\n	&bull\; Hot Chocolate\, Funnel Cakes &amp\; More - Along the Bricks</div>\n<div>\n	&bull\; Get Your Holiday Pictures Taken with Mrs. Clause - Dream Fit Boutique</div>\n<div>\n	&bull\; Community Tree Lighting Ceremony - MONA parking lot<br />\n	6:00-6:30 - Crane River Theatre</div>\n
LOCATION:Downtown on the Bricks
UID:e.1404.2212
SEQUENCE:3
DTSTAMP:20260424T223232Z
URL:https://chambermaster.kearneycoc.org/events/details/downtown-christmas-walk-11-29-2012-2212
END:VEVENT

END:VCALENDAR
