BEGIN:VCALENDAR
VERSION:2.0
PRODID:-//ChamberMaster//Event Calendar 2.0//EN
METHOD:PUBLISH
X-PUBLISHED-TTL:P3D
REFRESH-INTERVAL:P3D
CALSCALE:GREGORIAN
BEGIN:VEVENT
DTSTART:20150430T220000Z
DTEND:20150501T000000Z
X-MICROSOFT-CDO-ALLDAYEVENT:FALSE
SUMMARY:Downtown Kearney Economic Development Event
DESCRIPTION:Please join the Downtown Kearney Economic Development Committee to network and share information.\n\n\n	Meet the new Downtown Kearney Coordinator\, Pat Compton\n	Understand the new Downtown Kearney organization structure\n	Presentation of UNK Research Results revealing business opportunities in Downtown Kearney\n	Network with new and established downtown entrepreneurs\n\n Appetizers and non-alcoholic drinks will be provided
X-ALT-DESC;FMTTYPE=text/html:<span style="font-size:12px\;"><span style="font-family:arial\;">Please join the Downtown Kearney Economic Development Committee to network and share information.</span></span>\n\n<ul>\n	<li><span style="font-size:12px\;"><span style="font-family:arial\;">Meet the new Downtown Kearney Coordinator\, Pat Compton</span></span></li>\n	<li><span style="font-size:12px\;"><span style="font-family:arial\;">Understand the new Downtown Kearney organization structure</span></span></li>\n	<li><span style="font-size:12px\;"><span style="font-family:arial\;">Presentation of UNK Research Results revealing&nbsp\;business opportunities in Downtown&nbsp\;Kearney</span></span></li>\n	<li><span style="font-size:12px\;"><span style="font-family:arial\;">Network with new and established downtown entrepreneurs</span></span></li>\n</ul>\n<span style="font-size:12px\;"><span style="font-family:arial\;">&nbsp\;Appetizers and non-alcoholic drinks will be provided</span></span>
LOCATION:Cunningham's Journal Second Floor
UID:e.1404.6006
SEQUENCE:3
DTSTAMP:20260422T195406Z
URL:https://chambermaster.kearneycoc.org/events/details/downtown-kearney-economic-development-event-04-30-2015-6006
END:VEVENT

END:VCALENDAR
