BEGIN:VCALENDAR
VERSION:2.0
PRODID:-//ChamberMaster//Event Calendar 2.0//EN
METHOD:PUBLISH
X-PUBLISHED-TTL:P3D
REFRESH-INTERVAL:P3D
CALSCALE:GREGORIAN
BEGIN:VEVENT
DTSTART:20151027T124500Z
DTEND:20151027T140000Z
X-MICROSOFT-CDO-ALLDAYEVENT:FALSE
SUMMARY:Downtown Kearney Entrepreneurship Workshop
DESCRIPTION:Tap into Resources for Starting\,Owning & Maintaining your own business\; How Downtown Kearney Operates\; How Being Downtown can Help Your Business\; Get a Glimpse of the Vision for Downtown\; Provide Feedback
X-ALT-DESC;FMTTYPE=text/html:Tap into Resources for Starting\,Owning &amp\; Maintaining your own business\; How Downtown Kearney Operates\; How Being Downtown can Help Your Business\; Get a Glimpse of the Vision for Downtown\; Provide Feedback
LOCATION:Downtown Kearney
UID:e.1404.6733
SEQUENCE:3
DTSTAMP:20260422T100639Z
URL:https://chambermaster.kearneycoc.org/events/details/downtown-kearney-entrepreneurship-workshop-10-27-2015-6733
END:VEVENT

END:VCALENDAR
