BEGIN:VCALENDAR
VERSION:2.0
PRODID:-//ChamberMaster//Event Calendar 2.0//EN
METHOD:PUBLISH
X-PUBLISHED-TTL:P3D
REFRESH-INTERVAL:P3D
CALSCALE:GREGORIAN
BEGIN:VEVENT
DTSTART:20121208T160000Z
DTEND:20121209T020000Z
X-MICROSOFT-CDO-ALLDAYEVENT:FALSE
SUMMARY:Dream Fit Boutique & Annie Kay Ladies Spa Day
DESCRIPTION:Ladies Holiday Pampering! Come enjoy a day of pampering with hair\, nails and massages! Messages from 6-8pm Prizes and specials!
X-ALT-DESC;FMTTYPE=text/html:Ladies Holiday Pampering! Come enjoy a day of pampering with hair\, nails and massages! Messages from 6-8pm Prizes and specials!
LOCATION:2406 Central Ave
UID:e.1404.2213
SEQUENCE:3
DTSTAMP:20260424T205205Z
URL:https://chambermaster.kearneycoc.org/events/details/dream-fit-boutique-annie-kay-ladies-spa-day-12-08-2012-2213
END:VEVENT

END:VCALENDAR
