BEGIN:VCALENDAR
VERSION:2.0
PRODID:-//ChamberMaster//Event Calendar 2.0//EN
METHOD:PUBLISH
X-PUBLISHED-TTL:P3D
REFRESH-INTERVAL:P3D
CALSCALE:GREGORIAN
BEGIN:VEVENT
DTSTART:20151203T160000Z
DTEND:20151203T230000Z
X-MICROSOFT-CDO-ALLDAYEVENT:FALSE
SUMMARY:Eakes Holiday Open House
DESCRIPTION:You're invited to our Holiday Open House! Get a start on your holiday shopping at Eakes. We have a wonderful selection of one-of-a-kind gifts for everyone on your list!  Join us for refreshments\, door prizes\, free gift for the first 50 customers.
X-ALT-DESC;FMTTYPE=text/html:You&#39\;re invited to our Holiday Open House! Get a start on your holiday shopping at Eakes.&nbsp\;We have a wonderful selection of one-of-a-kind gifts for everyone on your list! &nbsp\;Join us for refreshments\, door prizes\, free gift for the first 50 customers.
LOCATION:Eakes Office Solution 2401 A Ave Kearney\, NE 68847
UID:e.1404.7080
SEQUENCE:3
DTSTAMP:20260422T064718Z
URL:https://chambermaster.kearneycoc.org/events/details/eakes-holiday-open-house-12-03-2015-7080
END:VEVENT

END:VCALENDAR
