BEGIN:VCALENDAR
VERSION:2.0
PRODID:-//ChamberMaster//Event Calendar 2.0//EN
METHOD:PUBLISH
X-PUBLISHED-TTL:P3D
REFRESH-INTERVAL:P3D
CALSCALE:GREGORIAN
BEGIN:VEVENT
DTSTART:20160312T180000Z
DTEND:20160326T230000Z
X-MICROSOFT-CDO-ALLDAYEVENT:FALSE
SUMMARY:Easter Bunny Photos
DESCRIPTION:Easter is fast approaching and the Easter Bunny will be at Hilltop Mall starting March 12th. The Bunny will be in the mall on weekends to visit children and be in their Easter photos! Stop by the mall for some Easter Fun and Shopping. Also don?t miss the Hilltop Mall Easter Egg Hunt on Good Friday at 9:45am sharp! The hunt is for ages 0-3rd grade\, please arrive early to find your age group. Pricing for Easter Photos: 1 6x8 photo is $10\, 2 6x8 photos are $15\, and a CD with digital rights is $25. The Easter Egg Hunt on Friday\, March 25th is FREE. Easter Bunny Photos 2016 Schedule: Saturday\, March 12th 12pm-6pm Sunday\, March 13th 1pm-5pm Friday\, March 18th 4pm-8pm Saturday\, March 19th 12pm-6pm Sunday\, March 20th 1pm-5pm Thursday\, March 24th 4pm-8pm Friday\, March 25th 10am-6pm Saturday\, March 26th 10am-6pm
X-ALT-DESC;FMTTYPE=text/html:Easter is fast approaching and the Easter Bunny will be at Hilltop Mall starting March 12th. The Bunny will be in the mall on weekends to visit children and be in their Easter photos! Stop by the mall for some Easter Fun and Shopping. Also don?t miss the Hilltop Mall Easter Egg Hunt on Good Friday at 9:45am sharp! The hunt is for ages 0-3rd grade\, please arrive early to find your age group. Pricing for Easter Photos: 1 6x8 photo is $10\, 2 6x8 photos are $15\, and a CD with digital rights is $25. The Easter Egg Hunt on Friday\, March 25th is FREE. Easter Bunny Photos 2016 Schedule: Saturday\, March 12th 12pm-6pm Sunday\, March 13th 1pm-5pm Friday\, March 18th 4pm-8pm Saturday\, March 19th 12pm-6pm Sunday\, March 20th 1pm-5pm Thursday\, March 24th 4pm-8pm Friday\, March 25th 10am-6pm Saturday\, March 26th 10am-6pm
LOCATION:Hilltop Mall 5011 2nd Ave Kearney\, NE 68847
UID:e.1404.8542
SEQUENCE:3
DTSTAMP:20260422T012019Z
URL:https://chambermaster.kearneycoc.org/events/details/easter-bunny-photos-03-12-2016-8542
END:VEVENT

END:VCALENDAR
