BEGIN:VCALENDAR
VERSION:2.0
PRODID:-//ChamberMaster//Event Calendar 2.0//EN
METHOD:PUBLISH
X-PUBLISHED-TTL:P3D
REFRESH-INTERVAL:P3D
CALSCALE:GREGORIAN
BEGIN:VEVENT
DTSTART;VALUE=DATE:20161020
DTEND;VALUE=DATE:20161021
TRANSP:TRANSPARENT
X-MICROSOFT-CDO-ALLDAYEVENT:TRUE
SUMMARY:Educator Appreciation Day
DESCRIPTION:Visit the Hilltop Mall in Kearney on Thursday October 20th for Educator Appreciation Day! There will be all day discounts for not only teachers but all school employees. Show your school ID and receive goodies and special coupons in center court from 4pm-7pm and show your mall receipt to enter to win a $200 gift basket. Thank you teachers!
X-ALT-DESC;FMTTYPE=text/html:Visit the Hilltop Mall in Kearney on Thursday October 20th for Educator Appreciation Day! There will be all day discounts for not only teachers but all school employees. Show your school ID and receive goodies and special coupons in center court from 4pm-7pm and show your mall receipt to enter to win a $200 gift basket. Thank you teachers!
LOCATION:Hilltop Mall 5011 2nd Ave Kearney NE 68847
UID:e.1404.9070
SEQUENCE:3
DTSTAMP:20260421T135855Z
URL:https://chambermaster.kearneycoc.org/events/details/educator-appreciation-day-9070
END:VEVENT

END:VCALENDAR
