BEGIN:VCALENDAR
VERSION:2.0
PRODID:-//ChamberMaster//Event Calendar 2.0//EN
METHOD:PUBLISH
X-PUBLISHED-TTL:P3D
REFRESH-INTERVAL:P3D
CALSCALE:GREGORIAN
BEGIN:VEVENT
DTSTART:20140214T133000Z
DTEND:20140214T143000Z
X-MICROSOFT-CDO-ALLDAYEVENT:FALSE
SUMMARY:Eggs & Issues
DESCRIPTION:CORRECTION! The time is 7:30AM\n\nJoin the Kearney area State Senators as they discuss what has transpired so far in the 2014 Legislative Session and what to expect for the rest of the session.
X-ALT-DESC;FMTTYPE=text/html:<span style="color:#ff0000\;"><strong>CORRECTION! The time is 7:30<u>AM</u></strong></span><br />\nJoin the Kearney area State Senators as they discuss what has transpired so far in the 2014 Legislative Session and what to expect for the rest of the session.&nbsp\;
LOCATION:Kearney Area Chamber of Commerce 1007 2nd Ave Kearney\, Nebraska
UID:e.1404.4482
SEQUENCE:3
DTSTAMP:20260423T194308Z
URL:https://chambermaster.kearneycoc.org/events/details/eggs-issues-02-14-2014-4482
END:VEVENT

END:VCALENDAR
