BEGIN:VCALENDAR
VERSION:2.0
PRODID:-//ChamberMaster//Event Calendar 2.0//EN
METHOD:PUBLISH
X-PUBLISHED-TTL:P3D
REFRESH-INTERVAL:P3D
CALSCALE:GREGORIAN
BEGIN:VEVENT
DTSTART:20190418T223000Z
DTEND:20190419T010000Z
X-MICROSOFT-CDO-ALLDAYEVENT:FALSE
SUMMARY:EGGstravaganza
DESCRIPTION:Help us welcome Spring and join us for our EGGstravaganza fesitval! Families will enjoy various activity stations throughout the museum including the chance to see farm animals\, create crafts\, play games\, outdoor stations\, and of course meet the Easter Bunny! Egg Hunt held at 6:45pm.
X-ALT-DESC;FMTTYPE=text/html:Help us welcome Spring and join us for our EGGstravaganza fesitval! Families will enjoy various activity stations throughout the museum including the chance to see farm animals\, create crafts\, play games\, outdoor stations\, and of course meet the Easter Bunny! Egg Hunt held at 6:45pm.&nbsp\;
LOCATION:Kearney Area Children's Museum The Alia Arram Memorial Building 5827 4th Ave\, Kearney\, NE 68845
UID:e.1404.15424
SEQUENCE:3
DTSTAMP:20260426T032337Z
URL:https://chambermaster.kearneycoc.org/events/details/eggstravaganza-15424
END:VEVENT

END:VCALENDAR
