BEGIN:VCALENDAR
VERSION:2.0
PRODID:-//ChamberMaster//Event Calendar 2.0//EN
METHOD:PUBLISH
X-PUBLISHED-TTL:P3D
REFRESH-INTERVAL:P3D
CALSCALE:GREGORIAN
BEGIN:VEVENT
DTSTART:20150723T130000Z
DTEND:20150723T210000Z
X-MICROSOFT-CDO-ALLDAYEVENT:FALSE
SUMMARY:Employment & Labor Law Forum
DESCRIPTION:CNHRMA presents the 2015 Employment & Labor Law Forum. Topics include Labor & Employment Law Updates\, Redefining Retirement Plan Successes\, Latest Trends and Issues in Immigration and Employee Misclassification.
X-ALT-DESC;FMTTYPE=text/html:CNHRMA presents the 2015 Employment &amp\; Labor Law Forum. Topics include Labor &amp\; Employment Law Updates\, Redefining Retirement Plan Successes\, Latest Trends and Issues in Immigration and Employee Misclassification.&nbsp\;
LOCATION:Younes Conference Center 416 Talmadge Road Kearney\, NE
UID:e.1404.6460
SEQUENCE:3
DTSTAMP:20260422T151703Z
URL:https://chambermaster.kearneycoc.org/events/details/employment-labor-law-forum-07-23-2015-6460
END:VEVENT

END:VCALENDAR
