BEGIN:VCALENDAR
VERSION:2.0
PRODID:-//ChamberMaster//Event Calendar 2.0//EN
METHOD:PUBLISH
X-PUBLISHED-TTL:P3D
REFRESH-INTERVAL:P3D
CALSCALE:GREGORIAN
BEGIN:VEVENT
DTSTART:20220712T220000Z
DTEND:20220713T000000Z
X-MICROSOFT-CDO-ALLDAYEVENT:FALSE
SUMMARY:Envoy July Picnic
DESCRIPTION:Envoy July Picnic
X-ALT-DESC;FMTTYPE=text/html:Envoy July Picnic&nbsp\;&nbsp\;&nbsp\;&nbsp\;&nbsp\;&nbsp\;&nbsp\;&nbsp\;&nbsp\;&nbsp\;&nbsp\;&nbsp\;
LOCATION:Upper Room Brewery 1540 W 56th St Suite D\, Kearney\, NE
UID:e.1404.19972
SEQUENCE:3
DTSTAMP:20260421T132415Z
URL:https://chambermaster.kearneycoc.org/events/details/envoy-july-picnic-19972
END:VEVENT

END:VCALENDAR
