BEGIN:VCALENDAR
VERSION:2.0
PRODID:-//ChamberMaster//Event Calendar 2.0//EN
METHOD:PUBLISH
X-PUBLISHED-TTL:P3D
REFRESH-INTERVAL:P3D
CALSCALE:GREGORIAN
BEGIN:VEVENT
DTSTART:20150424T223000Z
DTEND:20150424T233000Z
X-MICROSOFT-CDO-ALLDAYEVENT:FALSE
SUMMARY:Evening Garden Party & New Member Social
DESCRIPTION:New Member Social with Cocktails & Appetizers\n\n\n\nClick here for Kearney Country Club's Calendar of Events
X-ALT-DESC;FMTTYPE=text/html:New Member Social with Cocktails &amp\; Appetizers<br />\n<br />\n<a href="http://cloud.chambermaster.com/userfiles/UserFiles/chambers/1404/File/KCC100YearsCalendarofEvents.pdf">Click here</a> for Kearney Country Club&#39\;s Calendar of Events
LOCATION:Kearney Country Club 2800 19th Ave
UID:e.1404.6161
SEQUENCE:3
DTSTAMP:20260422T200415Z
URL:https://chambermaster.kearneycoc.org/events/details/evening-garden-party-new-member-social-04-24-2015-6161
END:VEVENT

END:VCALENDAR
