BEGIN:VCALENDAR
VERSION:2.0
PRODID:-//ChamberMaster//Event Calendar 2.0//EN
METHOD:PUBLISH
X-PUBLISHED-TTL:P3D
REFRESH-INTERVAL:P3D
CALSCALE:GREGORIAN
BEGIN:VEVENT
DTSTART:20210604T000000Z
DTEND:20210606T023000Z
X-MICROSOFT-CDO-ALLDAYEVENT:FALSE
SUMMARY:Every Brilliant Thing
DESCRIPTION:A kid makes a list for his mom. A list of everything worth living for in the world. 1. Ice cream. 2. Kung Fu movies. 3. Burning things. 4. Laughing so hard you shoot milk out your nose. 5. Construction cranes.6. Me. He needs her to read the list so she doesn't try to leave the world again. As the kid grows up and experiences more life\, more love\, and more loss\, his list gets longer and more vital with each addition. "Every Brilliant Thing" is sad\, but it is also gloriously funny and exceptionally warm. It's a show that spells out a little of what depression can do to people\, but it also highlights the irrepressible resilience of the human spirit and the capacity to find delight in the everyday. Presented at The Village in downtown Kearney\, "Every Brilliant Thing" is a must-see for audiences of all ages.
X-ALT-DESC;FMTTYPE=text/html:A kid makes a list for his mom. A list of everything worth living for in the world. 1. Ice cream. 2. Kung Fu movies. 3. Burning things. 4. Laughing so hard you shoot milk out your nose. 5. Construction cranes.6. Me. He needs her to read the list so she doesn&rsquo\;t try to leave the world again. As the kid grows up and experiences more life\, more love\, and more loss\, his list gets longer and more vital with each addition. &ldquo\;Every Brilliant Thing&rdquo\; is sad\, but it is also gloriously funny and exceptionally warm. It&rsquo\;s a show that spells out a little of what depression can do to people\, but it also highlights the irrepressible resilience of the human spirit and the capacity to find delight in the everyday. Presented at The Village in downtown Kearney\, &ldquo\;Every Brilliant Thing&rdquo\; is a must-see for audiences of all ages.
LOCATION:The Village 1920 A Avenue Kearney\, Nebraska 68847
UID:e.1404.19251
SEQUENCE:3
DTSTAMP:20260424T080927Z
URL:https://chambermaster.kearneycoc.org/events/details/every-brilliant-thing-19251
END:VEVENT

END:VCALENDAR
