BEGIN:VCALENDAR
VERSION:2.0
PRODID:-//ChamberMaster//Event Calendar 2.0//EN
METHOD:PUBLISH
X-PUBLISHED-TTL:P3D
REFRESH-INTERVAL:P3D
CALSCALE:GREGORIAN
BEGIN:VEVENT
DTSTART:20160822T183000Z
DTEND:20160822T190000Z
X-MICROSOFT-CDO-ALLDAYEVENT:FALSE
SUMMARY:Excellence in Economic Development Award
DESCRIPTION:Congressman Adrian Smith will present business owner Chais Meyer the Excellence in Economic Development award at 1:30 p.m. Aug. 22 at 24 Hour Tees.\n\nMeyer and Jody Augustyn were both among the winners of the 2016 3rd District Excellence in Economic Development Award presented by Rep. Smith.\n\n\nSmith's award honors eight individuals and businesses that are helping to strengthen Nebraska communities through innovation\, hard work and entrepreneurship.
X-ALT-DESC;FMTTYPE=text/html:<p style="font-size: 1.2em\; outline: 0px\; font-family: Calibri\, &quot\;Trebuchet MS&quot\;\, Verdana\; margin: 0px\; padding: 0px 0px 18px\; line-height: 19.4838px\;"><span class="first-paragraph" style="font-size: 12.7345px\; outline: 0px\; font-family: Calibri\, &quot\;Trebuchet MS&quot\;\, Verdana\, sans-serif\; margin: 0px\; padding: 0px\; background-color: rgb(255\, 255\, 255)\;"><span class="paragraph-0" style="font-size: 12.9892px\; outline: 0px\; margin: 0px\; padding: 0px\;">Congressman Adrian Smith will present business owner Chais Meyer the Excellence in Economic Development award at 1:30 p.m. Aug. 22 at 24 Hour Tees.</span></span></p>\n\n<p style="font-size: 1.2em\; outline: 0px\; font-family: Calibri\, &quot\;Trebuchet MS&quot\;\, Verdana\; margin: 0px\; padding: 0px 0px 18px\; line-height: 19.1017px\;"><span class="paragraph-1" style="font-size: 12.7345px\; outline: 0px\; font-family: Calibri\, &quot\;Trebuchet MS&quot\;\, Verdana\, sans-serif\; margin: 0px\; padding: 0px\; background-color: rgb(255\, 255\, 255)\;">Meyer and Jody Augustyn were both among the winners of the 2016 3rd District Excellence in Economic Development Award presented by Rep. Smith.</span></p>\n\n<div class="encrypted-content" style="font-size: 12.7345px\; outline: 0px\; font-family: Calibri\, &quot\;Trebuchet MS&quot\;\, Verdana\, sans-serif\; margin: 0px\; padding: 0px\; background-color: rgb(255\, 255\, 255)\;">\n<p style="font-size: 1.2em\; outline: 0px\; font-family: Calibri\, &quot\;Trebuchet MS&quot\;\, Verdana\; margin: 0px\; padding: 0px 0px 18px\; line-height: 19.1017px\;">Smith&rsquo\;s award honors eight individuals and businesses that are helping to strengthen Nebraska communities through innovation\, hard work and entrepreneurship.</p>\n</div>\n
LOCATION:24 Hour Tees 110 W 24th St
UID:e.1404.8977
SEQUENCE:3
DTSTAMP:20260421T171450Z
URL:https://chambermaster.kearneycoc.org/events/details/excellence-in-economic-development-award-08-22-2016-8977
END:VEVENT

END:VCALENDAR
