BEGIN:VCALENDAR
VERSION:2.0
PRODID:-//ChamberMaster//Event Calendar 2.0//EN
METHOD:PUBLISH
X-PUBLISHED-TTL:P3D
REFRESH-INTERVAL:P3D
CALSCALE:GREGORIAN
BEGIN:VEVENT
DTSTART:20150911T150000Z
DTEND:20150914T020000Z
X-MICROSOFT-CDO-ALLDAYEVENT:FALSE
SUMMARY:Fall Craft & Gift Show
DESCRIPTION:Hilltop Mall's Fall Craft & Gift Show is September 11th-13th. There will be a showcase of multiple vendors with handmade crafts and unique gifts. The mall will be accepting vendor applications through September 1st. If you are interested in being part of the event\, or for more information about the event\, please contact the mall office at 308.236.9798.
X-ALT-DESC;FMTTYPE=text/html:Hilltop Mall&#39\;s Fall Craft &amp\; Gift Show is September 11th-13th. There will be a showcase of multiple vendors with handmade crafts and unique gifts. The mall will be accepting vendor applications through September 1st. If you are interested in being part of the event\, or for more information about the event\, please contact the mall office at 308.236.9798.
LOCATION:Hilltop Mall 5011 2nd Ave\, Kearney\, NE
UID:e.1404.6492
SEQUENCE:3
DTSTAMP:20260422T114502Z
URL:https://chambermaster.kearneycoc.org/events/details/fall-craft-gift-show-09-11-2015-6492
END:VEVENT

END:VCALENDAR
