BEGIN:VCALENDAR
VERSION:2.0
PRODID:-//ChamberMaster//Event Calendar 2.0//EN
METHOD:PUBLISH
X-PUBLISHED-TTL:P3D
REFRESH-INTERVAL:P3D
CALSCALE:GREGORIAN
BEGIN:VEVENT
DTSTART:20160929T230000Z
DTEND:20160930T010000Z
X-MICROSOFT-CDO-ALLDAYEVENT:FALSE
SUMMARY:Fall Fashion Show
DESCRIPTION:The 308 Boutique and HerViewFromHome present the Fall Fashion Show-Watch\, Sip and Shop event!\n\n6:00pm: Appetizers/Cash Bar\n\n6:30pm: Fashion Show\n\n7:30pm: Shop The 308 Boutique
X-ALT-DESC;FMTTYPE=text/html:The 308 Boutique and HerViewFromHome present the Fall Fashion Show-Watch\, Sip and Shop event!<br />\n6:00pm: Appetizers/Cash Bar<br />\n6:30pm: Fashion Show<br />\n7:30pm: Shop The 308 Boutique
LOCATION:The Archway 3060 E 1st St
UID:e.1404.9020
SEQUENCE:3
DTSTAMP:20260421T170120Z
URL:https://chambermaster.kearneycoc.org/events/details/fall-fashion-show-9020
END:VEVENT

END:VCALENDAR
