BEGIN:VCALENDAR
VERSION:2.0
PRODID:-//ChamberMaster//Event Calendar 2.0//EN
METHOD:PUBLISH
X-PUBLISHED-TTL:P3D
REFRESH-INTERVAL:P3D
CALSCALE:GREGORIAN
BEGIN:VEVENT
DTSTART:20190815T170000Z
DTEND:20190815T183000Z
X-MICROSOFT-CDO-ALLDAYEVENT:FALSE
SUMMARY:Fall Legislative Forum
DESCRIPTION:Fall Legislative Forum Luncheon\n\n\n\nSponsored by: Nebraska Public Power District\, First National Bank and Olsson Associates
X-ALT-DESC;FMTTYPE=text/html:Fall Legislative Forum Luncheon<br />\n<br />\nSponsored by: Nebraska Public Power District\, First National Bank and Olsson Associates&nbsp\;
LOCATION:Central Community College
UID:e.1404.16573
SEQUENCE:3
DTSTAMP:20260425T212806Z
URL:https://chambermaster.kearneycoc.org/events/details/fall-legislative-forum-08-15-2019-16573
END:VEVENT

END:VCALENDAR
