BEGIN:VCALENDAR
VERSION:2.0
PRODID:-//ChamberMaster//Event Calendar 2.0//EN
METHOD:PUBLISH
X-PUBLISHED-TTL:P3D
REFRESH-INTERVAL:P3D
CALSCALE:GREGORIAN
BEGIN:VEVENT
DTSTART:20161012T213000Z
DTEND:20161012T233000Z
X-MICROSOFT-CDO-ALLDAYEVENT:FALSE
SUMMARY:Fall Parking Lot Party
DESCRIPTION:Come meet your local businesses in the Centennial Plaza! Including Serendipity\, Valley Medical Management Services\, Heartland Home Care & Hospice\, American Family Insurance\, Grace on 11th\, The 23rd Street Dance Company and Compass. Freedom Dogs Food Truck will be open from 3pm to 7pm in the parking lot. Bouncy House\, Raffle Drawing and Games!
X-ALT-DESC;FMTTYPE=text/html:Come meet your local businesses in the Centennial Plaza! Including Serendipity\, Valley Medical Management Services\, Heartland Home Care &amp\; Hospice\, American Family Insurance\, Grace on 11th\, The 23rd Street Dance Company and Compass. Freedom Dogs Food Truck will be open from 3pm to 7pm in the parking lot. Bouncy House\, Raffle Drawing and Games!
LOCATION:512 W 1th St (Centennial Plaza) Kearney
UID:e.1404.9067
SEQUENCE:3
DTSTAMP:20260421T140118Z
URL:https://chambermaster.kearneycoc.org/events/details/fall-parking-lot-party-9067
END:VEVENT

END:VCALENDAR
