BEGIN:VCALENDAR
VERSION:2.0
PRODID:-//ChamberMaster//Event Calendar 2.0//EN
METHOD:PUBLISH
X-PUBLISHED-TTL:P3D
REFRESH-INTERVAL:P3D
CALSCALE:GREGORIAN
BEGIN:VEVENT
DTSTART:20140222T190000Z
DTEND:20140222T220000Z
X-MICROSOFT-CDO-ALLDAYEVENT:FALSE
SUMMARY:Family and Local History Expo
DESCRIPTION:Come visit some local museums and genealogy centers in one place. Free Admission and Open to All. Light refreshments will be served.
X-ALT-DESC;FMTTYPE=text/html:Come visit some local museums and genealogy centers in one place. Free Admission and Open to All. Light refreshments will be served. 
LOCATION:Church of Jesus Christ of Latter Day Saints 510 46th St. Kearney\, NE 68847
UID:e.1404.4511
SEQUENCE:3
DTSTAMP:20260423T195707Z
URL:https://chambermaster.kearneycoc.org/events/details/family-and-local-history-expo-02-22-2014-4511
END:VEVENT

END:VCALENDAR
