BEGIN:VCALENDAR
VERSION:2.0
PRODID:-//ChamberMaster//Event Calendar 2.0//EN
METHOD:PUBLISH
X-PUBLISHED-TTL:P3D
REFRESH-INTERVAL:P3D
CALSCALE:GREGORIAN
BEGIN:VEVENT
DTSTART:20200229T190000Z
DTEND:20200229T220000Z
X-MICROSOFT-CDO-ALLDAYEVENT:FALSE
SUMMARY:Family Arts Festival
DESCRIPTION:Family Arts Festival MONA and Kearney Cultural Partners (KCP) invite you to attend the annual Family Arts Festival to experience art\, dance\, music\, and more. At MONA participate in interactive educational art activities inspired by the MONA collection. Dance away to music and songs provided by the friendliest family band in Nebraska   The String Beans with two 30-minute performances at 2:00 p.m. and 3:00 p.m. Saturday\, February 29   1:00-4:00 p.m. FREE and open to the public!
X-ALT-DESC;FMTTYPE=text/html:Family Arts Festival MONA and Kearney Cultural Partners (KCP) invite you to attend the annual Family Arts Festival to experience art\, dance\, music\, and more. At MONA participate in interactive educational art activities inspired by the MONA collection. Dance away to music and songs provided by the friendliest family band in Nebraska &ndash\; The String Beans with two 30-minute performances at 2:00 p.m. and 3:00 p.m. Saturday\, February 29 &bull\; 1:00-4:00 p.m. FREE and open to the public!
LOCATION:Museum of Nebraska Art
UID:e.1404.18297
SEQUENCE:3
DTSTAMP:20260425T114346Z
URL:https://chambermaster.kearneycoc.org/events/details/family-arts-festival-02-29-2020-18297
END:VEVENT

END:VCALENDAR
