BEGIN:VCALENDAR
VERSION:2.0
PRODID:-//ChamberMaster//Event Calendar 2.0//EN
METHOD:PUBLISH
X-PUBLISHED-TTL:P3D
REFRESH-INTERVAL:P3D
CALSCALE:GREGORIAN
BEGIN:VEVENT
DTSTART:20190414T000500Z
DTEND:20190414T020000Z
X-MICROSOFT-CDO-ALLDAYEVENT:FALSE
SUMMARY:Fan Appreciation: Tri-City Storm vs. Sioux City Musketeers
DESCRIPTION:Fan Appreciation: Tri-City Storm vs. Sioux City Musketeers\n\nPresented by Coca-Cola\n\nIncludes Autographs After Game\, Jerseys Off Our Backs
X-ALT-DESC;FMTTYPE=text/html:Fan Appreciation: Tri-City Storm vs. Sioux City Musketeers<br />\nPresented by Coca-Cola<br />\n<span style="background:white\;"><span style="color:#333333\;"><span style="font-family:arial\,sans-serif\;"><span style="font-size:10.0pt\;">Includes Autographs After Game\, Jerseys Off Our Backs</span></span></span></span>
LOCATION:Viaero Event Center
UID:e.1404.13985
SEQUENCE:3
DTSTAMP:20260426T033528Z
URL:https://chambermaster.kearneycoc.org/events/details/fan-appreciation-tri-city-storm-vs-sioux-city-musketeers-13985
END:VEVENT

END:VCALENDAR
