BEGIN:VCALENDAR
VERSION:2.0
PRODID:-//ChamberMaster//Event Calendar 2.0//EN
METHOD:PUBLISH
X-PUBLISHED-TTL:P3D
REFRESH-INTERVAL:P3D
CALSCALE:GREGORIAN
BEGIN:VEVENT
DTSTART;VALUE=DATE:20130928
DTEND;VALUE=DATE:20130929
TRANSP:TRANSPARENT
X-MICROSOFT-CDO-ALLDAYEVENT:TRUE
SUMMARY:Fanatics Golf Tournament to benefit Kearney Therapeutic Golf Tournament
DESCRIPTION:4th Annual Fanatics 4-Person Golf Scramble\n\nto benefit the Kearney Therapeutic Horseback Riding Program\n\nat Prairie Hills Golf Course\n\n$300 per team for 18 holes of golf\, brunch\, dinner and fun\n\n9am-11am...Registration with Bloody Mary\, Biscuits-n-Gravy Brunch at Fanatics\n\nNoon...Shotgun Start at Prairie Hills Golf Course\n\nContact Nate at Fanatics to register or call\, 308-627-2632
X-ALT-DESC;FMTTYPE=text/html:4th Annual Fanatics 4-Person Golf Scramble<br />\nto benefit the Kearney Therapeutic Horseback Riding Program<br />\nat Prairie Hills Golf Course<br />\n$300 per team for 18 holes of golf\, brunch\, dinner and fun<br />\n9am-11am...Registration with Bloody Mary\, Biscuits-n-Gravy Brunch at Fanatics<br />\nNoon...Shotgun Start at Prairie Hills Golf Course<br />\nContact Nate at Fanatics to register or call\, 308-627-2632
LOCATION:Fanatics/Prairie Hills Golf Course
UID:e.1404.3303
SEQUENCE:3
DTSTAMP:20260424T061123Z
URL:https://chambermaster.kearneycoc.org/events/details/fanatics-golf-tournament-to-benefit-kearney-therapeutic-golf-tournament-09-28-2013-3303
END:VEVENT

END:VCALENDAR
