BEGIN:VCALENDAR
VERSION:2.0
PRODID:-//ChamberMaster//Event Calendar 2.0//EN
METHOD:PUBLISH
X-PUBLISHED-TTL:P3D
REFRESH-INTERVAL:P3D
CALSCALE:GREGORIAN
BEGIN:VEVENT
DTSTART:20140912T160000Z
DTEND:20140912T183000Z
X-MICROSOFT-CDO-ALLDAYEVENT:FALSE
SUMMARY:Farmers & Merchants Bank BBQ
DESCRIPTION:Please join us for an appreciation barbeque. All are invited.
X-ALT-DESC;FMTTYPE=text/html:Please join us for an appreciation barbeque. All are invited.
LOCATION:Tent in the park area. 3015 2nd Ave
UID:e.1404.5319
SEQUENCE:3
DTSTAMP:20260423T084019Z
URL:https://chambermaster.kearneycoc.org/events/details/farmers-merchants-bank-bbq-09-12-2014-5319
END:VEVENT

END:VCALENDAR
