BEGIN:VCALENDAR
VERSION:2.0
PRODID:-//ChamberMaster//Event Calendar 2.0//EN
METHOD:PUBLISH
X-PUBLISHED-TTL:P3D
REFRESH-INTERVAL:P3D
CALSCALE:GREGORIAN
BEGIN:VEVENT
DTSTART:20160930T170000Z
DTEND:20160930T180000Z
X-MICROSOFT-CDO-ALLDAYEVENT:FALSE
SUMMARY:FCA Adult Luncheon
DESCRIPTION:Enjoy lunch for $5. Get an FCA Update and listen to Guest Speaker\, Josh Lamberson\, UNK Head Football Coach.
X-ALT-DESC;FMTTYPE=text/html:Enjoy lunch for $5. Get an FCA Update and listen to Guest Speaker\, Josh Lamberson\, UNK Head Football Coach.
LOCATION:Valentinos 5115 2nd Avenue
UID:e.1404.9036
SEQUENCE:3
DTSTAMP:20260421T153838Z
URL:https://chambermaster.kearneycoc.org/events/details/fca-adult-luncheon-9036
END:VEVENT

END:VCALENDAR
