BEGIN:VCALENDAR
VERSION:2.0
PRODID:-//ChamberMaster//Event Calendar 2.0//EN
METHOD:PUBLISH
X-PUBLISHED-TTL:P3D
REFRESH-INTERVAL:P3D
CALSCALE:GREGORIAN
BEGIN:VEVENT
DTSTART:20140309T233000Z
DTEND:20140310T013000Z
X-MICROSOFT-CDO-ALLDAYEVENT:FALSE
SUMMARY:FCA Legacy Banquet
DESCRIPTION:Coach Tommy Bowden will be in Kearney on Sunday\, March 9\, to speak at the Kearney Area Fellowship of Christian Athletes 5th Annual Legacy Banquet. He will be joined by former Husker and CFL player\, Todd Brown\, who will serve as Master of Ceremonies. Fellowship of Christian Athletes is the largest sports ministry in the world. The Central Nebraska Chapter of FCA reaches coaches and athletes through camps\, clinics\, community events\, and campus ministry at area college\, high school and milddle school campuses. The FCA Legacy Banquet is designed to provide financial and volunteer resources necessary to carry out the FCA mission within our local communities.
X-ALT-DESC;FMTTYPE=text/html:Coach Tommy Bowden will be in Kearney on Sunday\, March 9\, to speak at the Kearney Area Fellowship of Christian Athletes 5th Annual Legacy Banquet. He will be joined by former Husker and CFL player\, Todd Brown\, who will serve as Master of Ceremonies. Fellowship of Christian Athletes is the largest sports ministry in the world. The Central Nebraska Chapter of FCA reaches coaches and athletes through camps\, clinics\, community events\, and campus ministry at area college\, high school and milddle school campuses. The FCA Legacy Banquet is designed to provide financial and volunteer resources necessary to carry out the FCA mission within our local communities. 
LOCATION:Younes Conference Center\, Kearney
UID:e.1404.4483
SEQUENCE:3
DTSTAMP:20260423T180955Z
URL:https://chambermaster.kearneycoc.org/events/details/fca-legacy-banquet-03-09-2014-4483
END:VEVENT

END:VCALENDAR
