BEGIN:VCALENDAR
VERSION:2.0
PRODID:-//ChamberMaster//Event Calendar 2.0//EN
METHOD:PUBLISH
X-PUBLISHED-TTL:P3D
REFRESH-INTERVAL:P3D
CALSCALE:GREGORIAN
BEGIN:VEVENT
DTSTART:20150608T221500Z
DTEND:20150612T010500Z
X-MICROSOFT-CDO-ALLDAYEVENT:FALSE
SUMMARY:FINDING JESUS VACATION BIBLE SCHOOL
DESCRIPTION:Join us for FINDING JESUS VACATION BIBLE SCHOOL at First Lutheran Church June 8-11. 5:15-5:50 PM  MEAL (free will offering) and 5:50-8:05 PM  FREE VBS PROGRAM for AGES 4  ENTERING GRADE 5. REGISTRATION FORM AVAILABLE ON OUR WEBSITE: http://firstlutherankearney.org or contact 308-237-5544 or office@firstlutherankearney.org
X-ALT-DESC;FMTTYPE=text/html:Join us for FINDING JESUS VACATION BIBLE SCHOOL at First Lutheran Church June 8-11. 5:15-5:50 PM &nbsp\;MEAL (free will offering) and 5:50-8:05 PM &nbsp\;FREE VBS PROGRAM for AGES 4 &nbsp\;ENTERING GRADE 5. REGISTRATION FORM AVAILABLE ON OUR WEBSITE: http://firstlutherankearney.org or contact 308-237-5544 or office@firstlutherankearney.org
LOCATION:3315 G Avenue Kearney\, NE 68847
UID:e.1404.6262
SEQUENCE:3
DTSTAMP:20260422T165200Z
URL:https://chambermaster.kearneycoc.org/events/details/finding-jesus-vacation-bible-school-06-08-2015-6262
END:VEVENT

END:VCALENDAR
