BEGIN:VCALENDAR
VERSION:2.0
PRODID:-//ChamberMaster//Event Calendar 2.0//EN
METHOD:PUBLISH
X-PUBLISHED-TTL:P3D
REFRESH-INTERVAL:P3D
CALSCALE:GREGORIAN
BEGIN:VEVENT
DTSTART:20141011T190000Z
DTEND:20141011T210000Z
X-MICROSOFT-CDO-ALLDAYEVENT:FALSE
SUMMARY:Fire Prevention & Safety Day!
DESCRIPTION:Fun\, Games and Prizes   Why Keep the Children Away? \n\n\n\nJoin us at the Nebraska Firefighters Museum on Saturday\, October 11th from 2 to 4pm for a fun way to learn about Fire Prevention and Safety. Come talk to firefighters and listen to the stories while they show you their trucks. Explore an ambulance and talk to the EMTs as they explain how to be safe. Learn why seatbelts are so important with the Nebraska State Patrol and their rollover machine. After you are done exploring outside\, make your way inside the museum where more fun\, games and prizes await you. So\, join us for this fun and exciting time at no charge to anyone for the event is free and the museum will be free from 2 to 4pm. So load up your car\, truck or wagon and bring the children for a fun filled day of learning and prizes. Any questions or if you would like to volunteer or join our team please do not hesitate to contact Ali Abler at 308-338-3473.
X-ALT-DESC;FMTTYPE=text/html:<strong>Fun\, Games and Prizes &hellip\; Why Keep the Children Away? </strong><br />\n<br />\nJoin us at the Nebraska Firefighters Museum on Saturday\, October 11th from 2 to 4pm for a fun way to learn about Fire Prevention and Safety. Come talk to firefighters and listen to the stories while they show you their trucks. Explore an ambulance and talk to the EMTs as they explain how to be safe. Learn why seatbelts are so important with the Nebraska State Patrol and their rollover machine. After you are done exploring outside\, make your way inside the museum where more fun\, games and prizes await you. So\, join us for this fun and exciting time at no charge to anyone for the event is free and the museum will be free from 2 to 4pm. So load up your car\, truck or wagon and bring the children for a fun filled day of learning and prizes. Any questions or if you would like to volunteer or join our team please do not hesitate to contact Ali Abler at 308-338-3473.
LOCATION:Nebraska Firefighters Museum and Education Center: 2434 E.1st Street\, Kearney\, NE
UID:e.1404.5360
SEQUENCE:3
DTSTAMP:20260423T065651Z
URL:https://chambermaster.kearneycoc.org/events/details/fire-prevention-safety-day-10-11-2014-5360
END:VEVENT

END:VCALENDAR
