BEGIN:VCALENDAR
VERSION:2.0
PRODID:-//ChamberMaster//Event Calendar 2.0//EN
METHOD:PUBLISH
X-PUBLISHED-TTL:P3D
REFRESH-INTERVAL:P3D
CALSCALE:GREGORIAN
BEGIN:VEVENT
DTSTART:20220305T010000Z
DTEND:20220305T030000Z
X-MICROSOFT-CDO-ALLDAYEVENT:FALSE
SUMMARY:First Friday Brickwalk Social
DESCRIPTION:Help us celebrate the changing of the season as we highlight the local Sandhill Crane Migration with our lineup of Nebraska-Local artwork. Accompany us for an evening of art\, drinks and conversation at Kearney's premier art venue\, The Brickwalk Gallery. We will be enjoying fine wine\, elegant hors d'oeuvres and craft beer while taking in the Sandhill Crane-themed artworks on display.\n\n\n\n$25/ticket (Includes 2 drink tickets and a selection of fine hors d'hoeuvres)\n\n\n\nTickets may be purchased online at: www.thebrickwalkproject.com/events or with cash at the door.\n\n\n\nSemi formal attire. Must be 21\n\n\n\nDirect all questions to connect@thebrickwalkgallery.com
X-ALT-DESC;FMTTYPE=text/html:<div class="kvgmc6g5 cxmmr5t8 oygrvhab hcukyx3x c1et5uql ii04i59q" color:="" font-size:="" segoe="" style="overflow-wrap: break-word\; margin: 0px\; white-space: pre-wrap\; font-family: " ui="">\n<div dir="auto" style="font-family: inherit\;">Help us celebrate the changing of the season as we highlight the local Sandhill Crane Migration with our lineup of Nebraska-Local artwork. Accompany us for an evening of art\, drinks and conversation at Kearney&rsquo\;s premier art venue\, The Brickwalk Gallery. We will be enjoying fine wine\, elegant hors d&rsquo\;oeuvres and craft beer while taking in the Sandhill Crane-themed artworks on display.</div>\n</div>\n\n<div class="cxmmr5t8 oygrvhab hcukyx3x c1et5uql o9v6fnle ii04i59q" color:="" font-size:="" segoe="" style="overflow-wrap: break-word\; margin: 0.5em 0px 0px\; white-space: pre-wrap\; font-family: " ui="">\n<div dir="auto" style="font-family: inherit\;">$25/ticket (Includes 2 drink tickets and a selection of fine hors d&#39\;hoeuvres)</div>\n</div>\n\n<div class="cxmmr5t8 oygrvhab hcukyx3x c1et5uql o9v6fnle ii04i59q" color:="" font-size:="" segoe="" style="overflow-wrap: break-word\; margin: 0.5em 0px 0px\; white-space: pre-wrap\; font-family: " ui="">\n<div dir="auto" style="font-family: inherit\;">Tickets may be purchased online at: <span style="font-family: inherit\;"><a class="oajrlxb2 g5ia77u1 qu0x051f esr5mh6w e9989ue4 r7d6kgcz rq0escxv nhd2j8a9 nc684nl6 p7hjln8o kvgmc6g5 cxmmr5t8 oygrvhab hcukyx3x jb3vyjys rz4wbd8a qt6c0cv9 a8nywdso i1ao9s8h esuyzwwr f1sip0of lzcic4wl gpro0wi8 py34i1dx" href="http://www.thebrickwalkproject.com/events" rel="nofollow noopener" role="link" style="color: var(--blue-link)\; cursor: pointer\; text-decoration-line: none\; outline: none\; list-style: none\; border-width: 0px\; border-style: initial\; border-color: initial\; padding: 0px\; margin: 0px\; touch-action: manipulation\; background-color: transparent\; text-align: inherit\; display: inline\; -webkit-tap-highlight-color: transparent\; box-sizing: border-box\; font-family: inherit\;" tabindex="0" target="_blank">www.thebrickwalkproject.com/events</a></span> or with cash at the door.</div>\n</div>\n\n<div class="cxmmr5t8 oygrvhab hcukyx3x c1et5uql o9v6fnle ii04i59q" color:="" font-size:="" segoe="" style="overflow-wrap: break-word\; margin: 0.5em 0px 0px\; white-space: pre-wrap\; font-family: " ui="">\n<div dir="auto" style="font-family: inherit\;">Semi formal attire. Must be 21</div>\n</div>\n\n<div class="cxmmr5t8 oygrvhab hcukyx3x c1et5uql o9v6fnle ii04i59q" color:="" font-size:="" segoe="" style="overflow-wrap: break-word\; margin: 0.5em 0px 0px\; white-space: pre-wrap\; font-family: " ui="">\n<div dir="auto" style="font-family: inherit\;">Direct all questions to connect@thebrickwalkgallery.com</div>\n</div>\n
LOCATION:The Brickwalk Gallery 2008 Ave. A\, Suite C Kearney\, NE 68847
UID:e.1404.19656
SEQUENCE:3
DTSTAMP:20260423T162803Z
URL:https://chambermaster.kearneycoc.org/events/details/first-friday-brickwalk-social-19656
END:VEVENT

END:VCALENDAR
