BEGIN:VCALENDAR
VERSION:2.0
PRODID:-//ChamberMaster//Event Calendar 2.0//EN
METHOD:PUBLISH
X-PUBLISHED-TTL:P3D
REFRESH-INTERVAL:P3D
CALSCALE:GREGORIAN
BEGIN:VEVENT
DTSTART:20190425T153000Z
DTEND:20190425T193000Z
X-MICROSOFT-CDO-ALLDAYEVENT:FALSE
SUMMARY:First National Bank Community Shred Day
DESCRIPTION:First National Bank Community Shred Day!
X-ALT-DESC;FMTTYPE=text/html:First National Bank Community Shred Day!
LOCATION:First National Bank Parking Lot 2223 2nd Ave.
UID:e.1404.15952
SEQUENCE:3
DTSTAMP:20260426T033238Z
URL:https://chambermaster.kearneycoc.org/events/details/first-national-bank-community-shred-day-15952
END:VEVENT

END:VCALENDAR
