BEGIN:VCALENDAR
VERSION:2.0
PRODID:-//ChamberMaster//Event Calendar 2.0//EN
METHOD:PUBLISH
X-PUBLISHED-TTL:P3D
REFRESH-INTERVAL:P3D
CALSCALE:GREGORIAN
BEGIN:VEVENT
DTSTART:20221008T130000Z
DTEND:20221008T190000Z
X-MICROSOFT-CDO-ALLDAYEVENT:FALSE
SUMMARY:Flu Shot & COVID Booster Clinic
DESCRIPTION:No appointment needed!\n\nPlease have your insurance card ready\n\nQuadrivalent and High Dose vaccine (flu vaccine)\n\nBivalent (COVID booster) for 12 years and older.\n\n* The Bivalent booster dose can be administered at least 2 months after the last monovalent booster dose\n\n(Pfizer\, Moderna or Novavax vaccine).
X-ALT-DESC;FMTTYPE=text/html:<p>No appointment needed!<br />\nPlease have your insurance card ready</p>\n\n<p>Quadrivalent and High Dose vaccine (flu vaccine)<br />\nBivalent (COVID booster) for 12 years and older.<br />\n* The Bivalent booster dose can be administered at least 2 months after the last monovalent booster dose<br />\n(Pfizer\, Moderna or Novavax vaccine).</p>\n
LOCATION:Platte Valley Medical Clinic Kearney\, NE
UID:e.1404.20094
SEQUENCE:3
DTSTAMP:20260419T121127Z
URL:https://chambermaster.kearneycoc.org/events/details/flu-shot-clinic-20094
END:VEVENT

END:VCALENDAR
