BEGIN:VCALENDAR
VERSION:2.0
PRODID:-//ChamberMaster//Event Calendar 2.0//EN
METHOD:PUBLISH
X-PUBLISHED-TTL:P3D
REFRESH-INTERVAL:P3D
CALSCALE:GREGORIAN
BEGIN:VEVENT
DTSTART:20150509T140000Z
DTEND:20150509T210000Z
X-MICROSOFT-CDO-ALLDAYEVENT:FALSE
SUMMARY:Fort Kearny Outdoor Expo
DESCRIPTION:The Fort Kearney Outdoor Expo will showcase the state's vast number of fun activities for outdoor enthusiasts of all ages. This event is designed to meet the needs of anyone interested in outdoor lifestyle\, regardless of age or experience.\n\n\n\nParticipating in the activities is free. An annual or daily park permit per vehicle will be required.\n\n\n\nFind out more at fortkearnyexpo.com
X-ALT-DESC;FMTTYPE=text/html:The Fort Kearney Outdoor Expo will showcase the state&#39\;s vast number of fun activities for outdoor enthusiasts of all ages. This event is designed to meet the needs of anyone interested in outdoor lifestyle\, regardless of age or experience.<br />\n<br />\nParticipating in the activities is free. An annual or daily park permit per vehicle will be required.<br />\n<br />\nFind out more at <a href="http://www.fortkearnyexpo.com">fortkearnyexpo.com</a>
LOCATION:Fort Kearny State Recreation Area
UID:e.1404.6168
SEQUENCE:3
DTSTAMP:20260422T182520Z
URL:https://chambermaster.kearneycoc.org/events/details/fort-kearny-outdoor-expo-05-09-2015-6168
END:VEVENT

END:VCALENDAR
