BEGIN:VCALENDAR
VERSION:2.0
PRODID:-//ChamberMaster//Event Calendar 2.0//EN
METHOD:PUBLISH
X-PUBLISHED-TTL:P3D
REFRESH-INTERVAL:P3D
CALSCALE:GREGORIAN
BEGIN:VEVENT
DTSTART:20210916T210000Z
DTEND:20210917T010000Z
X-MICROSOFT-CDO-ALLDAYEVENT:FALSE
SUMMARY:Free Family Fun Night
DESCRIPTION:Join us for our Free Family Fun Night! \n\nThis is a great opportunity to bring your family to enjoy FREE admission to the Museum and enjoy fun activities. Thank you to the University of Nebraska Medical Center for sponsoring this months event!\n\nDon't forget that we have several Memberships available including our Sharing & Caring Scholarship for families who may need financial assistance.
X-ALT-DESC;FMTTYPE=text/html:<p>Join us for our Free Family Fun Night!&nbsp\;</p>\n\n<p>This is a great opportunity to bring your family to enjoy FREE admission to the Museum and enjoy fun activities. Thank you to the&nbsp\;<a class="external" href="https://www.unmc.edu/nursing/about/about_five_campuses/kearney_campus.html" rel="nofollow" style="box-sizing: border-box\; background-color: transparent\; color: rgb(72\, 170\, 210)\; text-decoration-line: none\; outline: none\; transition: all 0.14s ease 0s\; word-break: break-all\;">University of Nebraska Medical Center</a>&nbsp\;for sponsoring this months event!</p>\n\n<p>Don&rsquo\;t forget that we have several Memberships available including our Sharing &amp\; Caring Scholarship for families who may need financial assistance.&nbsp\;</p>\n
LOCATION:Kearney Area Children's Museum 5827 4th Avenue\, Kearney\, NE 68845
UID:e.1404.19346
SEQUENCE:3
DTSTAMP:20260424T040010Z
URL:https://chambermaster.kearneycoc.org/events/details/free-family-fun-night-09-16-2021-19346
END:VEVENT

END:VCALENDAR
