BEGIN:VCALENDAR
VERSION:2.0
PRODID:-//ChamberMaster//Event Calendar 2.0//EN
METHOD:PUBLISH
X-PUBLISHED-TTL:P3D
REFRESH-INTERVAL:P3D
CALSCALE:GREGORIAN
BEGIN:VEVENT
DTSTART:20210215T180000Z
DTEND:20210215T190000Z
X-MICROSOFT-CDO-ALLDAYEVENT:FALSE
SUMMARY:FREE Professional Development
DESCRIPTION:Join the Kearney Area Chamber of Commerce for a FREE Professional Development Course on Leading in 2021. This is a 4 week course that can be completed either in person or via Zoom. Registration is required. Contact Stacey at sjohnson@kearneycoc.org to sign up or receive more information.
X-ALT-DESC;FMTTYPE=text/html:<p>Join the Kearney Area Chamber of Commerce for a FREE Professional Development Course on Leading in 2021. This is a 4 week course that can be completed either in person or via Zoom. Registration is required. Contact Stacey at sjohnson@kearneycoc.org to sign up or receive more information.</p>\n
LOCATION:Kearney Area Chamber of Commerce Board Room or Zoom
UID:e.1404.19215
SEQUENCE:3
DTSTAMP:20260424T155323Z
URL:https://chambermaster.kearneycoc.org/events/details/free-professional-development-19215
END:VEVENT

END:VCALENDAR
