BEGIN:VCALENDAR
VERSION:2.0
PRODID:-//ChamberMaster//Event Calendar 2.0//EN
METHOD:PUBLISH
X-PUBLISHED-TTL:P3D
REFRESH-INTERVAL:P3D
CALSCALE:GREGORIAN
BEGIN:VEVENT
DTSTART:20161008T140000Z
DTEND:20161008T150000Z
X-MICROSOFT-CDO-ALLDAYEVENT:FALSE
SUMMARY:FREE U.S. CELLULAR DEVICE WORKSHOP PROVIDES TIPS TO CREATE DIGITAL DIARY
DESCRIPTION:Natural disasters can happen at any time. A smartphone or tablet can serve as a digital diary or fire safe in an emergency. If the worst-case scenario happens\, important information can be recovered. U.S. Cellular associates will offer tips on how and what residents might want to capture and store in their iPhone 7 or Samsung Galaxy S7 smartphone\, such as vital paperwork\, belongings and insurance policy numbers\, during a free Device Workshop. Guests don't need to be U.S. Cellular customers to attend. "Our associates are available to show residents how to use a smartphone or tablet to store critical information\, so they have it when they need it most\," said Mike Adams\, U.S. Cellular's director of sales in Nebraska and Iowa. "People rely on our high-quality network to connect them to loved ones and information they need when emergency situations occur. Through this workshop\, we're trying to help prepare for the unexpected." The free Device Workshop starts at 9 a.m. on Saturday\, October 8th at U.S. Cellular\, 5603 Second Ave. in Kearney. You may call (308) 236-2075 for more information.
X-ALT-DESC;FMTTYPE=text/html:Natural disasters can happen at any time. A smartphone or tablet can serve as a digital diary or fire safe in an emergency. If the worst-case scenario happens\, important information can be recovered. U.S. Cellular associates will offer tips on how and what residents might want to capture and store in their iPhone 7 or Samsung Galaxy S7 smartphone\, such as vital paperwork\, belongings and insurance policy numbers\, during a free Device Workshop. Guests don&rsquo\;t need to be U.S. Cellular customers to attend. &ldquo\;Our associates are available to show residents how to use a smartphone or tablet to store critical information\, so they have it when they need it most\,&rdquo\; said Mike Adams\, U.S. Cellular&rsquo\;s director of sales in Nebraska and Iowa. &ldquo\;People rely on our high-quality network to connect them to loved ones and information they need when emergency situations occur. Through this workshop\, we&rsquo\;re trying to help prepare for the unexpected.&rdquo\; The free Device Workshop starts at 9 a.m. on Saturday\, October 8th at U.S. Cellular\, 5603 Second Ave. in Kearney. You may call (308) 236-2075 for more information.
LOCATION:U.S. Cellular\, 5603 Second Ave. in Kearney
UID:e.1404.9063
SEQUENCE:3
DTSTAMP:20260421T140123Z
URL:https://chambermaster.kearneycoc.org/events/details/free-u-s-cellular-device-workshop-provides-tips-to-create-digital-diary-9063
END:VEVENT

END:VCALENDAR
