BEGIN:VCALENDAR
VERSION:2.0
PRODID:-//ChamberMaster//Event Calendar 2.0//EN
METHOD:PUBLISH
X-PUBLISHED-TTL:P3D
REFRESH-INTERVAL:P3D
CALSCALE:GREGORIAN
BEGIN:VEVENT
DTSTART:20161210T150000Z
DTEND:20161210T160000Z
X-MICROSOFT-CDO-ALLDAYEVENT:FALSE
SUMMARY:Free U.S. Cellular Device Workshop Will Provide Helpful Ways to Stay Organized
DESCRIPTION:It can be challenging to stay organized during the holidays. This year\, 84 percent of smartphone users used the calendar on their phone to keep track of appointments and events at least once a month. Whether you are leaving town or staying home this holiday season\, be sure to stay on track by relying on the latest smartphone devices\, such as the iPhone 7 or Samsung Galaxy S7. U.S. Cellular will offer a free Device Workshop\, where the company's knowledgeable associates will offer tips on how residents can stay organized and simplify their lives during the holiday season with their mobile device. You don't have to be a U.S. Cellular customer to attend. "We want everyone to be able to keep track of their busy calendars during the holidays\," said Mike Adams\, U.S. Cellular's director of sales in Nebraska and Iowa. "People rely heavily on their smartphones to stay on track each day\, especially during a busy time of year such as the holidays. We hope this workshop helps the community stay organized so they can focus on connecting with family and friends." You may call 308-236-2075 for more information.
X-ALT-DESC;FMTTYPE=text/html:It can be challenging to stay organized during the holidays. This year\, 84 percent of smartphone users used the calendar on their phone to keep track of appointments and events at least once a month. Whether you are leaving town or staying home this holiday season\, be sure to stay on track by relying on the latest smartphone devices\, such as the iPhone 7 or Samsung Galaxy S7. U.S. Cellular will offer a free Device Workshop\, where the company&rsquo\;s knowledgeable associates will offer tips on how residents can stay organized and simplify their lives during the holiday season with their mobile device. You don&rsquo\;t have to be a U.S. Cellular customer to attend. &ldquo\;We want everyone to be able to keep track of their busy calendars during the holidays\,&rdquo\; said Mike Adams\, U.S. Cellular&#39\;s director of sales in Nebraska and Iowa. &ldquo\;People rely heavily on their smartphones to stay on track each day\, especially during a busy time of year such as the holidays. We hope this workshop helps the community stay organized so they can focus on connecting with family and friends.&rdquo\; You may call 308-236-2075 for more information.
LOCATION:U.S. Cellular 5603 Second Ave. Kearney\, NE 68845
UID:e.1404.9122
SEQUENCE:3
DTSTAMP:20260419T121505Z
URL:https://chambermaster.kearneycoc.org/events/details/free-u-s-cellular-device-workshop-will-provide-helpful-ways-to-stay-organized-9122
END:VEVENT

END:VCALENDAR
