BEGIN:VCALENDAR
VERSION:2.0
PRODID:-//ChamberMaster//Event Calendar 2.0//EN
METHOD:PUBLISH
X-PUBLISHED-TTL:P3D
REFRESH-INTERVAL:P3D
CALSCALE:GREGORIAN
BEGIN:VEVENT
DTSTART;VALUE=DATE:20131002
DTEND;VALUE=DATE:20131006
TRANSP:TRANSPARENT
X-MICROSOFT-CDO-ALLDAYEVENT:TRUE
SUMMARY:FRIENDS OF THE LIBRARY ANNUAL BOOK SALE
DESCRIPTION:Membership sale will be held Wednesday October 2\, 5:30 to 8:30 pm\n\nGeneral Public can shop on Thursday October 3\, Noon to 8:30 and Friday October 4\, 9:00 to 4:00\n\nDollar Bag Sale\, Saturday October 5\, 9:00 to Noon
X-ALT-DESC;FMTTYPE=text/html:Membership sale will be held Wednesday October 2\, 5:30 to 8:30 pm<br />\nGeneral Public can shop on Thursday October 3\, Noon to 8:30 and Friday October 4\, 9:00 to 4:00<br />\nDollar Bag Sale\, Saturday October 5\, 9:00 to Noon
LOCATION:Kearney Public Library
UID:e.1404.3315
SEQUENCE:3
DTSTAMP:20260424T021122Z
URL:https://chambermaster.kearneycoc.org/events/details/friends-of-the-library-annual-book-sale-10-02-2013-3315
END:VEVENT

END:VCALENDAR
